BEGIN:VCALENDAR
VERSION:2.0
PRODID:-//Chicago Quantum Exchange//ICS Calendar Version 1.0//EN
BEGIN:VEVENT
DTSTAMP:20260423T203251Z
STATUS:CONFIRMED
UID:e9a8f581-c2d7-4db6-bb5e-b211d5ead16d
DTSTART:20250514T173000Z
DTEND:20250514T183000Z
SUMMARY:UChicago PME Career Development Workshop: Effective Cover Letters
DESCRIPTION:UChicago PME Career Development Workshop: Effective Cover Letters
X-ALT-DESC;FMTTYPE=text/html:UChicago PME Career Development Workshop: Effective Cover Letters
LOCATION:WERC 201B
END:VEVENT
END:VCALENDAR