BEGIN:VCALENDAR
VERSION:2.0
PRODID:-//Chicago Quantum Exchange//ICS Calendar Version 1.0//EN
BEGIN:VEVENT
DTSTAMP:20260424T194050Z
STATUS:CONFIRMED
UID:1d67b914-8723-492b-a5e2-8a8b9f03dd4a
DTSTART:20250422T180000Z
DTEND:20250422T200000Z
SUMMARY:Thesis Defense Announcement: Eric Schultz
DESCRIPTION:Thesis Defense Announcement: Eric Schultz
X-ALT-DESC;FMTTYPE=text/html:Thesis Defense Announcement: Eric Schultz
LOCATION:BSLC 115
END:VEVENT
END:VCALENDAR