BEGIN:VCALENDAR
VERSION:2.0
PRODID:-//Chicago Quantum Exchange//ICS Calendar Version 1.0//EN
BEGIN:VEVENT
DTSTAMP:20260422T072806Z
STATUS:CONFIRMED
UID:13e78e5e-c9c6-471a-994d-8ed8eef61bbb
DTSTART:20250929T130000Z
DTEND:20251001T200000Z
SUMMARY:Mainz Materials Simulation Days (MMSD) 2025: Life-Like and Living Materials
DESCRIPTION:Mainz Materials Simulation Days (MMSD) 2025: Life-Like and Living Materials
X-ALT-DESC;FMTTYPE=text/html:Mainz Materials Simulation Days (MMSD) 2025: Life-Like and Living Materials
LOCATION:WERC 161
END:VEVENT
END:VCALENDAR