BEGIN:VCALENDAR
VERSION:2.0
PRODID:-//Chicago Quantum Exchange//ICS Calendar Version 1.0//EN
BEGIN:VEVENT
DTSTAMP:20260422T023403Z
STATUS:CONFIRMED
UID:bfce93ba-b544-4e37-b24e-7d10121cafd1
DTSTART:20250411T200000Z
DTEND:20250411T210000Z
SUMMARY:UChicago PME Distinguished Colloquium - Dr. Caroline M. Ajo-Franklin
DESCRIPTION:UChicago PME Distinguished Colloquium - Dr. Caroline M. Ajo-Franklin
X-ALT-DESC;FMTTYPE=text/html:UChicago PME Distinguished Colloquium - Dr. Caroline M. Ajo-Franklin
LOCATION:WERC 161
END:VEVENT
END:VCALENDAR