BEGIN:VCALENDAR
VERSION:2.0
PRODID:-//Chicago Quantum Exchange//ICS Calendar Version 1.0//EN
BEGIN:VEVENT
DTSTAMP:20260424T154630Z
STATUS:CONFIRMED
UID:eb55fb3a-f05c-491a-bd94-514cfadb6dfc
DTSTART:20250224T193000Z
DTEND:20250224T203000Z
SUMMARY:PME Quantum Seminar - Adam Micah Kaufman
DESCRIPTION:PME Quantum Seminar - Adam Micah Kaufman
X-ALT-DESC;FMTTYPE=text/html:PME Quantum Seminar - Adam Micah Kaufman
LOCATION:WERC 301B
END:VEVENT
END:VCALENDAR