BEGIN:VCALENDAR
VERSION:2.0
PRODID:-//Chicago Quantum Exchange//ICS Calendar Version 1.0//EN
BEGIN:VEVENT
DTSTAMP:20260421T115708Z
STATUS:CONFIRMED
UID:a52ce394-a2b8-486a-adc6-971aa723c432
DTSTART:20250211T210000Z
DTEND:20250211T220000Z
SUMMARY:PME Materials Special Seminar - Tianyi Jin
DESCRIPTION:PME Materials Special Seminar - Tianyi Jin
X-ALT-DESC;FMTTYPE=text/html:PME Materials Special Seminar - Tianyi Jin
LOCATION:WERC 201B
END:VEVENT
END:VCALENDAR