BEGIN:VCALENDAR
VERSION:2.0
PRODID:-//Chicago Quantum Exchange//ICS Calendar Version 1.0//EN
BEGIN:VEVENT
DTSTAMP:20260422T131640Z
STATUS:CONFIRMED
UID:b8b86310-89d5-4465-be77-0a48fd202afa
DTSTART:20250114T160000Z
DTEND:20250114T170000Z
SUMMARY:PME Special Quantum Seminar - Hengyun ZHou
DESCRIPTION:PME Special Quantum Seminar - Hengyun ZHou
X-ALT-DESC;FMTTYPE=text/html:PME Special Quantum Seminar - Hengyun ZHou
LOCATION:ERC 201B
END:VEVENT
END:VCALENDAR