BEGIN:VCALENDAR
VERSION:2.0
PRODID:-//Chicago Quantum Exchange//ICS Calendar Version 1.0//EN
BEGIN:VEVENT
DTSTAMP:20260425T211057Z
STATUS:CONFIRMED
UID:ff6d7a83-cf27-482b-8a8f-bf84c195da6a
DTSTART:20241212T190000Z
DTEND:20241212T200000Z
SUMMARY:Special PME Quantum Seminar - Yinan Dong
DESCRIPTION:Special PME Quantum Seminar - Yinan Dong
X-ALT-DESC;FMTTYPE=text/html:Special PME Quantum Seminar - Yinan Dong
LOCATION:Zoom Meeting
END:VEVENT
END:VCALENDAR