BEGIN:VCALENDAR
VERSION:2.0
PRODID:-//Chicago Quantum Exchange//ICS Calendar Version 1.0//EN
BEGIN:VEVENT
DTSTAMP:20260421T080957Z
STATUS:CONFIRMED
UID:6455ccce-53b4-4cea-9d5e-857d675153cd
DTSTART:20241111T180000Z
DTEND:20241111T190000Z
SUMMARY:Exponent Coffee Chat
DESCRIPTION:Exponent Coffee Chat
X-ALT-DESC;FMTTYPE=text/html:Exponent Coffee Chat
LOCATION:ERC 201B
END:VEVENT
END:VCALENDAR