BEGIN:VCALENDAR
VERSION:2.0
PRODID:-//Chicago Quantum Exchange//ICS Calendar Version 1.0//EN
BEGIN:VEVENT
DTSTAMP:20260425T131444Z
STATUS:CONFIRMED
UID:11ed541c-ac8a-4ba1-877e-940a22c3d1fa
DTSTART:20241025T200000Z
DTEND:20241025T210000Z
SUMMARY:PME Distinguished Colloquium - Jeehwan Kim 
DESCRIPTION:PME Distinguished Colloquium - Jeehwan Kim 
X-ALT-DESC;FMTTYPE=text/html:PME Distinguished Colloquium - Jeehwan Kim 
LOCATION:ERC 161
END:VEVENT
END:VCALENDAR