BEGIN:VCALENDAR
VERSION:2.0
PRODID:-//Chicago Quantum Exchange//ICS Calendar Version 1.0//EN
BEGIN:VEVENT
DTSTAMP:20260423T002129Z
STATUS:CONFIRMED
UID:08bffa17-71e5-412d-8250-60a4eb4a3606
DTSTART:20241115T210000Z
DTEND:20241115T220000Z
SUMMARY:PME Distinguished Colloquium Series: Polina Anikeeva
DESCRIPTION:PME Distinguished Colloquium Series: Polina Anikeeva
X-ALT-DESC;FMTTYPE=text/html:PME Distinguished Colloquium Series: Polina Anikeeva
LOCATION:ERC 161
END:VEVENT
END:VCALENDAR