BEGIN:VCALENDAR
VERSION:2.0
PRODID:-//Chicago Quantum Exchange//ICS Calendar Version 1.0//EN
BEGIN:VEVENT
DTSTAMP:20260423T034147Z
STATUS:CONFIRMED
UID:326c745b-d0dd-4dde-906c-a0d78e651d56
DTSTART:20240524T200000Z
DTEND:20240524T210000Z
SUMMARY:PME Distinguished Colloquium - Dr. Shana Kelley
DESCRIPTION:PME Distinguished Colloquium - Dr. Shana Kelley
X-ALT-DESC;FMTTYPE=text/html:PME Distinguished Colloquium - Dr. Shana Kelley
LOCATION:ERC 161
END:VEVENT
END:VCALENDAR