BEGIN:VCALENDAR
VERSION:2.0
PRODID:-//Chicago Quantum Exchange//ICS Calendar Version 1.0//EN
BEGIN:VEVENT
DTSTAMP:20260423T141247Z
STATUS:CONFIRMED
UID:7ddb2c26-97f7-40fc-a2ec-c5f60912a83e
DTSTART:20240426T170000Z
DTEND:20240426T180000Z
SUMMARY:PME Alumni Career Conversation: Alfred Chon (Oliver Wyman)
DESCRIPTION:PME Alumni Career Conversation: Alfred Chon (Oliver Wyman)
X-ALT-DESC;FMTTYPE=text/html:PME Alumni Career Conversation: Alfred Chon (Oliver Wyman)
LOCATION:Zoom
END:VEVENT
END:VCALENDAR