BEGIN:VCALENDAR
VERSION:2.0
PRODID:-//Chicago Quantum Exchange//ICS Calendar Version 1.0//EN
BEGIN:VEVENT
DTSTAMP:20260423T183058Z
STATUS:CONFIRMED
UID:78d9b4ef-2893-43bd-a93d-2380e188d65a
DTSTART:20240422T200000Z
DTEND:20240422T213000Z
SUMMARY:Reeling in Change—Innovating alternative seafood with AQUA Cultured Foods
DESCRIPTION:Reeling in Change—Innovating alternative seafood with AQUA Cultured Foods
X-ALT-DESC;FMTTYPE=text/html:Reeling in Change—Innovating alternative seafood with AQUA Cultured Foods
LOCATION:ERC 161
END:VEVENT
END:VCALENDAR