BEGIN:VCALENDAR
VERSION:2.0
PRODID:-//Chicago Quantum Exchange//ICS Calendar Version 1.0//EN
BEGIN:VEVENT
DTSTAMP:20260425T064700Z
STATUS:CONFIRMED
UID:374e173a-3267-41dc-b243-9f41dd23c3c5
DTSTART:20240425T170000Z
DTEND:20240425T180000Z
SUMMARY:Chicago Future Manufacturing Seminar Series: Additive Manufacturing of Polymer-Matrix Composites: Opportunities in Designing Degrees of Freedom
DESCRIPTION:Chicago Future Manufacturing Seminar Series: Additive Manufacturing of Polymer-Matrix Composites: Opportunities in Designing Degrees of Freedom
X-ALT-DESC;FMTTYPE=text/html:Chicago Future Manufacturing Seminar Series: Additive Manufacturing of Polymer-Matrix Composites: Opportunities in Designing Degrees of Freedom
LOCATION:Zoom
END:VEVENT
END:VCALENDAR