BEGIN:VCALENDAR
VERSION:2.0
PRODID:-//Chicago Quantum Exchange//ICS Calendar Version 1.0//EN
BEGIN:VEVENT
DTSTAMP:20260425T171308Z
STATUS:CONFIRMED
UID:c3cce8de-3fce-48e9-a2ce-d83dbb7e1ff4
DTSTART:20240325T160000Z
DTEND:20240325T170000Z
SUMMARY:Opening: Fascination Of Science Photo Exhibit
DESCRIPTION:Opening: Fascination Of Science Photo Exhibit
X-ALT-DESC;FMTTYPE=text/html:Opening: Fascination Of Science Photo Exhibit
LOCATION:ERC Atrium
END:VEVENT
END:VCALENDAR