BEGIN:VCALENDAR
VERSION:2.0
PRODID:-//Chicago Quantum Exchange//ICS Calendar Version 1.0//EN
BEGIN:VEVENT
DTSTAMP:20260422T035257Z
STATUS:CONFIRMED
UID:2b5c4e6c-b654-4342-81e3-f1701b5371e6
DTSTART:20240319T150000Z
DTEND:20240319T160000Z
SUMMARY:PME Special Seminar - Prof. Saw Wai Hla, PhD
DESCRIPTION:PME Special Seminar - Prof. Saw Wai Hla, PhD
X-ALT-DESC;FMTTYPE=text/html:PME Special Seminar - Prof. Saw Wai Hla, PhD
LOCATION:ERC 201 & Zoom
END:VEVENT
END:VCALENDAR