BEGIN:VCALENDAR
VERSION:2.0
PRODID:-//Chicago Quantum Exchange//ICS Calendar Version 1.0//EN
BEGIN:VEVENT
DTSTAMP:20260424T001202Z
STATUS:CONFIRMED
UID:4a593155-e475-49a2-8120-9321190475a4
DTSTART:20240320T190000Z
DTEND:20240320T200000Z
SUMMARY:PME Special Seminar: Controlling Photons at the Nanoscale with Optical Metasurfaces
DESCRIPTION:PME Special Seminar: Controlling Photons at the Nanoscale with Optical Metasurfaces
X-ALT-DESC;FMTTYPE=text/html:PME Special Seminar: Controlling Photons at the Nanoscale with Optical Metasurfaces
LOCATION:ERC 201 & Zoom
END:VEVENT
END:VCALENDAR