BEGIN:VCALENDAR
VERSION:2.0
PRODID:-//Chicago Quantum Exchange//ICS Calendar Version 1.0//EN
BEGIN:VEVENT
DTSTAMP:20260422T034536Z
STATUS:CONFIRMED
UID:9058098d-fc54-48e4-bf54-2ea52b4a576f
DTSTART:20240326T160000Z
DTEND:20240326T170000Z
SUMMARY:PME Special Seminar - Professor Abigail Sheldon Knight 
DESCRIPTION:PME Special Seminar - Professor Abigail Sheldon Knight 
X-ALT-DESC;FMTTYPE=text/html:PME Special Seminar - Professor Abigail Sheldon Knight 
LOCATION:ERC 201
END:VEVENT
END:VCALENDAR