BEGIN:VCALENDAR
VERSION:2.0
PRODID:-//Chicago Quantum Exchange//ICS Calendar Version 1.0//EN
BEGIN:VEVENT
DTSTAMP:20260421T175807Z
STATUS:CONFIRMED
UID:1a87afcc-06a9-4973-b709-ce7d98ae4560
DTSTART:20240320T153000Z
DTEND:20240320T163000Z
SUMMARY:PME SPECIAL QUANTUM SEMINAR - GUILLAUME BORNET
DESCRIPTION:PME SPECIAL QUANTUM SEMINAR - GUILLAUME BORNET
X-ALT-DESC;FMTTYPE=text/html:PME SPECIAL QUANTUM SEMINAR - GUILLAUME BORNET
LOCATION:ERC 201 & Zoom
END:VEVENT
END:VCALENDAR