BEGIN:VCALENDAR
VERSION:2.0
PRODID:-//Chicago Quantum Exchange//ICS Calendar Version 1.0//EN
BEGIN:VEVENT
DTSTAMP:20260422T214450Z
STATUS:CONFIRMED
UID:705c619b-f9d4-41ab-aa37-a21848dc41e4
DTSTART:20240223T220000Z
DTEND:20240223T230000Z
SUMMARY:PME Distinguished Colloquium Series - Karen Wooley (TAMU)
DESCRIPTION:PME Distinguished Colloquium Series - Karen Wooley (TAMU)
X-ALT-DESC;FMTTYPE=text/html:PME Distinguished Colloquium Series - Karen Wooley (TAMU)
LOCATION:ERC 161
END:VEVENT
END:VCALENDAR