BEGIN:VCALENDAR
VERSION:2.0
PRODID:-//Chicago Quantum Exchange//ICS Calendar Version 1.0//EN
BEGIN:VEVENT
DTSTAMP:20260422T224431Z
STATUS:CONFIRMED
UID:e27d9a48-2518-4bcb-a8e4-3079df918c3b
DTSTART:20231026T203000Z
DTEND:20231026T213000Z
SUMMARY:Distinguished Quantum Colloquium - Dr. Yiwen Chu
DESCRIPTION:Distinguished Quantum Colloquium - Dr. Yiwen Chu
X-ALT-DESC;FMTTYPE=text/html:Distinguished Quantum Colloquium - Dr. Yiwen Chu
LOCATION:KPTC 106
END:VEVENT
END:VCALENDAR