BEGIN:VCALENDAR
VERSION:2.0
PRODID:-//Chicago Quantum Exchange//ICS Calendar Version 1.0//EN
BEGIN:VEVENT
DTSTAMP:20260423T165545Z
STATUS:CONFIRMED
UID:6a2f2327-4f6c-44bc-8b83-6268142ed30c
DTSTART:20231004T160000Z
DTEND:20231004T190000Z
SUMMARY:PME Distinguished Colloquium: Dr. Ying Samuel Hu, UIC
DESCRIPTION:PME Distinguished Colloquium: Dr. Ying Samuel Hu, UIC
X-ALT-DESC;FMTTYPE=text/html:PME Distinguished Colloquium: Dr. Ying Samuel Hu, UIC
LOCATION:ERC 161
END:VEVENT
END:VCALENDAR