BEGIN:VCALENDAR
VERSION:2.0
PRODID:-//Chicago Quantum Exchange//ICS Calendar Version 1.0//EN
BEGIN:VEVENT
DTSTAMP:20260424T141818Z
STATUS:CONFIRMED
UID:69cf21bb-fa15-495d-8237-16ff38b3f8f3
DTSTART:20230427T220000Z
DTEND:20230427T230000Z
SUMMARY:PME Thesis Defense: Jonathan Marcks
DESCRIPTION:PME Thesis Defense: Jonathan Marcks
X-ALT-DESC;FMTTYPE=text/html:PME Thesis Defense: Jonathan Marcks
LOCATION:ERC 201B and Zoom
END:VEVENT
END:VCALENDAR