BEGIN:VCALENDAR
VERSION:2.0
PRODID:-//Chicago Quantum Exchange//ICS Calendar Version 1.0//EN
BEGIN:VEVENT
DTSTAMP:20260423T022307Z
STATUS:CONFIRMED
UID:8a3cfeff-0e43-45ab-ad72-b2afab5d25ce
DTSTART:20230419T153000Z
DTEND:20230419T163000Z
SUMMARY:PME DISTINGUISHED COLLOQUIUM SERIES: Dr. Martin Winter
DESCRIPTION:PME DISTINGUISHED COLLOQUIUM SERIES: Dr. Martin Winter
X-ALT-DESC;FMTTYPE=text/html:PME DISTINGUISHED COLLOQUIUM SERIES: Dr. Martin Winter
LOCATION:ERC 161 and Zoom
END:VEVENT
END:VCALENDAR