BEGIN:VCALENDAR
VERSION:2.0
PRODID:-//Chicago Quantum Exchange//ICS Calendar Version 1.0//EN
BEGIN:VEVENT
DTSTAMP:20260423T091757Z
STATUS:CONFIRMED
UID:f0e596d4-7e43-4836-8fee-458cfc3ecab2
DTSTART:20230412T160000Z
DTEND:20230412T170000Z
SUMMARY:Distinguished Colloquium Series: Martin H W Gruebele
DESCRIPTION:Distinguished Colloquium Series: Martin H W Gruebele
X-ALT-DESC;FMTTYPE=text/html:Distinguished Colloquium Series: Martin H W Gruebele
LOCATION:ERC 161 and Zoom
END:VEVENT
END:VCALENDAR