BEGIN:VCALENDAR
VERSION:2.0
PRODID:-//Chicago Quantum Exchange//ICS Calendar Version 1.0//EN
BEGIN:VEVENT
DTSTAMP:20260425T131443Z
STATUS:CONFIRMED
UID:8e8159c6-c3a9-4435-b253-b0390d9b1f25
DTSTART:20230523T150000Z
DTEND:20230523T160000Z
SUMMARY:Quantum Colloquium Series - Kai-Mei Fu
DESCRIPTION:Quantum Colloquium Series - Kai-Mei Fu
X-ALT-DESC;FMTTYPE=text/html:Quantum Colloquium Series - Kai-Mei Fu
LOCATION:ERC 201B and Zoom
END:VEVENT
END:VCALENDAR